BEGIN:VCALENDAR
VERSION:2.0
PRODID:-//Centre l&#039;Eau Vive - ECPv6.15.16//NONSGML v1.0//EN
CALSCALE:GREGORIAN
METHOD:PUBLISH
X-WR-CALNAME:Centre l&#039;Eau Vive
X-ORIGINAL-URL:https://centreleauvive.com
X-WR-CALDESC:Évènements pour Centre l&#039;Eau Vive
REFRESH-INTERVAL;VALUE=DURATION:PT1H
X-Robots-Tag:noindex
X-PUBLISHED-TTL:PT1H
BEGIN:VTIMEZONE
TZID:UTC
BEGIN:STANDARD
TZOFFSETFROM:+0000
TZOFFSETTO:+0000
TZNAME:UTC
DTSTART:20250101T000000
END:STANDARD
END:VTIMEZONE
BEGIN:VEVENT
DTSTART;TZID=UTC:20260421T190000
DTEND;TZID=UTC:20260421T210000
DTSTAMP:20260419T180518
CREATED:20260310T194648Z
LAST-MODIFIED:20260310T194648Z
UID:921-1776798000-1776805200@centreleauvive.com
SUMMARY:Soirée de prières 21 avril 2026
DESCRIPTION:
URL:https://centreleauvive.com/activite/soiree-de-prieres-21-avril-2026/
ATTACH;FMTTYPE=image/jpeg:https://centreleauvive.com/wp-content/uploads/2026/03/Soiree-de-prieres-21-avril-2026.jpg
END:VEVENT
BEGIN:VEVENT
DTSTART;TZID=UTC:20260422T100000
DTEND;TZID=UTC:20260422T120000
DTSTAMP:20260419T180518
CREATED:20260314T183436Z
LAST-MODIFIED:20260314T183436Z
UID:967-1776852000-1776859200@centreleauvive.com
SUMMARY:2026-04-22 Prières d'intercession
DESCRIPTION:La grâce est une participation formelle à la vie du Père\, du Fils et du Saint Esprit… \nPère Jean-Paul Régimbal o.ss.t
URL:https://centreleauvive.com/activite/2026-04-22-prieres-dintercession-2/
ATTACH;FMTTYPE=image/jpeg:https://centreleauvive.com/wp-content/uploads/2026/03/Intercession-22-avril-2026.jpg
END:VEVENT
BEGIN:VEVENT
DTSTART;TZID=UTC:20260423T190000
DTEND;TZID=UTC:20260423T203000
DTSTAMP:20260419T180518
CREATED:20260207T194549Z
LAST-MODIFIED:20260207T194549Z
UID:765-1776970800-1776976200@centreleauvive.com
SUMMARY:Le chapelet Notre-Dame
DESCRIPTION:
URL:https://centreleauvive.com/activite/le-chapelet-notre-dame-3/
ATTACH;FMTTYPE=image/jpeg:https://centreleauvive.com/wp-content/uploads/2026/02/affiche_generale-chapelet-PDF.jpg
END:VEVENT
BEGIN:VEVENT
DTSTART;TZID=UTC:20260425T090000
DTEND;TZID=UTC:20260425T160000
DTSTAMP:20260419T180518
CREATED:20260221T001739Z
LAST-MODIFIED:20260221T001739Z
UID:777-1777107600-1777132800@centreleauvive.com
SUMMARY:P. Marcel Larouche 25 avril 2026
DESCRIPTION:
URL:https://centreleauvive.com/activite/p-marcel-larouche-25-avril-2026/
ATTACH;FMTTYPE=image/jpeg:https://centreleauvive.com/wp-content/uploads/2026/02/M.-LaroucheImage2.jpg
END:VEVENT
BEGIN:VEVENT
DTSTART;TZID=UTC:20260429T100000
DTEND;TZID=UTC:20260429T120000
DTSTAMP:20260419T180518
CREATED:20260314T182958Z
LAST-MODIFIED:20260314T182958Z
UID:965-1777456800-1777464000@centreleauvive.com
SUMMARY:2026-04-29 Prières d'intercession
DESCRIPTION:On ne peut pas rester sur le petit-lait tout notre vie… Il faut augmenter sa diète… \nPère Jean-Paul Régimbal o.ss.t
URL:https://centreleauvive.com/activite/2026-04-29-prieres-dintercession/
ATTACH;FMTTYPE=image/jpeg:https://centreleauvive.com/wp-content/uploads/2026/03/Intercession-29-avril-2026.jpg
END:VEVENT
END:VCALENDAR