BEGIN:VCALENDAR
VERSION:2.0
PRODID:-//Centre l&#039;Eau Vive - ECPv6.15.16//NONSGML v1.0//EN
CALSCALE:GREGORIAN
METHOD:PUBLISH
X-ORIGINAL-URL:https://centreleauvive.com
X-WR-CALDESC:Évènements pour Centre l&#039;Eau Vive
REFRESH-INTERVAL;VALUE=DURATION:PT1H
X-Robots-Tag:noindex
X-PUBLISHED-TTL:PT1H
BEGIN:VTIMEZONE
TZID:UTC
BEGIN:STANDARD
TZOFFSETFROM:+0000
TZOFFSETTO:+0000
TZNAME:UTC
DTSTART:20250101T000000
END:STANDARD
END:VTIMEZONE
BEGIN:VEVENT
DTSTART;TZID=UTC:20260418T090000
DTEND;TZID=UTC:20260418T160000
DTSTAMP:20260419T180803
CREATED:20260310T194133Z
LAST-MODIFIED:20260315T014426Z
UID:919-1776502800-1776528000@centreleauvive.com
SUMMARY:Maryse et Roger Groleau 18 avril 2026
DESCRIPTION:Maryse et Roger Groleau auront un invité spécial en lien avec le thème de la journée.
URL:https://centreleauvive.com/activite/maryse-et-roger-groleau-18-avril-2026/
ATTACH;FMTTYPE=image/jpeg:https://centreleauvive.com/wp-content/uploads/2026/03/2026-04-18-Maryse-et-Roger-Groleau.jpg
END:VEVENT
BEGIN:VEVENT
DTSTART;TZID=UTC:20260417T183000
DTEND;TZID=UTC:20260417T213000
DTSTAMP:20260419T180803
CREATED:20260314T181204Z
LAST-MODIFIED:20260314T181646Z
UID:955-1776450600-1776461400@centreleauvive.com
SUMMARY:2026-04-17 Jeunesse Notre-Dame
DESCRIPTION:Nous sommes faits pour être des saints; nous sommes faits pour être huit fois bienheureux et pour passer notre éternité dans la béatitude des Trois… \nPère Jean-Paul Régimbal o.ss.t
URL:https://centreleauvive.com/activite/2026-04-17-jeunesse-notre-dame/
ATTACH;FMTTYPE=image/jpeg:https://centreleauvive.com/wp-content/uploads/2026/03/2026-03-20-Jeunesse-Notre-Dame.jpg
END:VEVENT
BEGIN:VEVENT
DTSTART;TZID=UTC:20260415T100000
DTEND;TZID=UTC:20260415T120000
DTSTAMP:20260419T180803
CREATED:20260310T193730Z
LAST-MODIFIED:20260310T193730Z
UID:917-1776247200-1776254400@centreleauvive.com
SUMMARY:Prières d'Intercession 15 avril 2026
DESCRIPTION:
URL:https://centreleauvive.com/activite/prieres-dintercession-15-avril-2026/
ATTACH;FMTTYPE=image/jpeg:https://centreleauvive.com/wp-content/uploads/2026/03/Intercession-15-avril-2026.jpg
END:VEVENT
BEGIN:VEVENT
DTSTART;TZID=UTC:20260414T190000
DTEND;TZID=UTC:20260414T210000
DTSTAMP:20260419T180803
CREATED:20260310T193516Z
LAST-MODIFIED:20260310T193516Z
UID:914-1776193200-1776200400@centreleauvive.com
SUMMARY:Soirée de prières 14 avril 2026
DESCRIPTION:
URL:https://centreleauvive.com/activite/soiree-de-prieres-14-avril-2026/
ATTACH;FMTTYPE=image/jpeg:https://centreleauvive.com/wp-content/uploads/2026/03/Soiree-de-prieres-14-avril-2026.jpg
END:VEVENT
BEGIN:VEVENT
DTSTART;TZID=UTC:20260408T123000
DTEND;TZID=UTC:20260408T153000
DTSTAMP:20260419T180803
CREATED:20260310T192913Z
LAST-MODIFIED:20260310T192913Z
UID:912-1775651400-1775662200@centreleauvive.com
SUMMARY:Messe de Guérison 8 avril 2026
DESCRIPTION:
URL:https://centreleauvive.com/activite/messe-de-guerison-8-avril-2026/
ATTACH;FMTTYPE=image/jpeg:https://centreleauvive.com/wp-content/uploads/2026/02/Messe-de-guerison-8-avril-2026.jpg
END:VEVENT
BEGIN:VEVENT
DTSTART;TZID=UTC:20260408T100000
DTEND;TZID=UTC:20260408T120000
DTSTAMP:20260419T180803
CREATED:20260310T192705Z
LAST-MODIFIED:20260310T192705Z
UID:910-1775642400-1775649600@centreleauvive.com
SUMMARY:Prières d'Intercession 8 avril 2026
DESCRIPTION:
URL:https://centreleauvive.com/activite/prieres-dintercession-8-avril-2026/
ATTACH;FMTTYPE=image/jpeg:https://centreleauvive.com/wp-content/uploads/2026/03/Intercession-8-avril-2026.jpg
END:VEVENT
BEGIN:VEVENT
DTSTART;TZID=UTC:20260407T133000
DTEND;TZID=UTC:20260407T153000
DTSTAMP:20260419T180803
CREATED:20260310T192402Z
LAST-MODIFIED:20260310T192402Z
UID:908-1775568600-1775575800@centreleauvive.com
SUMMARY:Rosaire avec NDML Avril 2026
DESCRIPTION:
URL:https://centreleauvive.com/activite/rosaire-avec-ndml-avril-2026/
ATTACH;FMTTYPE=image/jpeg:https://centreleauvive.com/wp-content/uploads/2026/03/2026-04-07-Rosaire-avec-NDML.jpg
END:VEVENT
BEGIN:VEVENT
DTSTART;TZID=UTC:20260403T190000
DTEND;TZID=UTC:20260403T210000
DTSTAMP:20260419T180803
CREATED:20260310T191910Z
LAST-MODIFIED:20260310T191910Z
UID:906-1775242800-1775250000@centreleauvive.com
SUMMARY:Premier Vendredi du mois Avril 2026
DESCRIPTION:
URL:https://centreleauvive.com/activite/premier-vendredi-du-mois-avril-2026/
ATTACH;FMTTYPE=image/jpeg:https://centreleauvive.com/wp-content/uploads/2026/02/2026-04-03-Premier-Vendredi-du-mois.jpg
END:VEVENT
BEGIN:VEVENT
DTSTART;TZID=UTC:20260401T100000
DTEND;TZID=UTC:20260401T120000
DTSTAMP:20260419T180803
CREATED:20260310T151813Z
LAST-MODIFIED:20260310T151813Z
UID:891-1775037600-1775044800@centreleauvive.com
SUMMARY:Prières d'Intercession 1 avril 2026
DESCRIPTION:
URL:https://centreleauvive.com/activite/prieres-dintercession-1-avril-2026/
ATTACH;FMTTYPE=image/jpeg:https://centreleauvive.com/wp-content/uploads/2026/02/2026-04-1-Intercession.jpg
END:VEVENT
BEGIN:VEVENT
DTSTART;TZID=UTC:20260331T190000
DTEND;TZID=UTC:20260331T203000
DTSTAMP:20260419T180803
CREATED:20260302T144810Z
LAST-MODIFIED:20260302T144843Z
UID:888-1774983600-1774989000@centreleauvive.com
SUMMARY:Soirée de prières 31 mars 2026
DESCRIPTION:
URL:https://centreleauvive.com/activite/soiree-de-prieres-31-mars-2026/
ATTACH;FMTTYPE=image/jpeg:https://centreleauvive.com/wp-content/uploads/2026/02/Mardi-31-mars-2026.jpg
END:VEVENT
BEGIN:VEVENT
DTSTART;TZID=UTC:20260328T130000
DTEND;TZID=UTC:20260328T170000
DTSTAMP:20260419T180803
CREATED:20260302T144044Z
LAST-MODIFIED:20260302T144044Z
UID:882-1774702800-1774717200@centreleauvive.com
SUMMARY:Isabelle et Jocelyn Lapalme 28 mars 2026
DESCRIPTION:
URL:https://centreleauvive.com/activite/isabelle-et-jocelyn-lapalme-28-mars-2026/
ATTACH;FMTTYPE=image/jpeg:https://centreleauvive.com/wp-content/uploads/2026/03/Isabelle-et-Jocelyn-Lapalme.jpg
END:VEVENT
BEGIN:VEVENT
DTSTART;TZID=UTC:20260325T100000
DTEND;TZID=UTC:20260325T120000
DTSTAMP:20260419T180803
CREATED:20260302T144715Z
LAST-MODIFIED:20260314T181956Z
UID:886-1774432800-1774440000@centreleauvive.com
SUMMARY:2026-03-25 Prières d'Intercession
DESCRIPTION:
URL:https://centreleauvive.com/activite/prieres-dintercession-25-mars-2026/
ATTACH;FMTTYPE=image/jpeg:https://centreleauvive.com/wp-content/uploads/2026/02/2026-03-25-Intercession.jpg
END:VEVENT
BEGIN:VEVENT
DTSTART;TZID=UTC:20260324T190000
DTEND;TZID=UTC:20260324T203000
DTSTAMP:20260419T180803
CREATED:20260302T144446Z
LAST-MODIFIED:20260302T144446Z
UID:884-1774378800-1774384200@centreleauvive.com
SUMMARY:Soirée de prières mardi 24 mars 2026
DESCRIPTION:
URL:https://centreleauvive.com/activite/soiree-de-prieres-mardi-24-mars-2026/
ATTACH;FMTTYPE=image/jpeg:https://centreleauvive.com/wp-content/uploads/2026/02/Mardi-24-mars-2026.jpg
END:VEVENT
BEGIN:VEVENT
DTSTART;TZID=UTC:20260320T183000
DTEND;TZID=UTC:20260320T213000
DTSTAMP:20260419T180803
CREATED:20260314T180710Z
LAST-MODIFIED:20260314T181628Z
UID:953-1774031400-1774042200@centreleauvive.com
SUMMARY:2026-03-20 Jeunesse Notre-Dame
DESCRIPTION:Au lieu de croire vos doutes et de douter de votre foi\, croyez votre foi et doutez de vos doutes… \nPère Jean-Paul Régimbal o.ss.t
URL:https://centreleauvive.com/activite/2026-03-20-jeunesse-notre-dame-2/
ATTACH;FMTTYPE=image/jpeg:https://centreleauvive.com/wp-content/uploads/2026/03/2026-03-20-Jeunesse-Notre-Dame.jpg
END:VEVENT
BEGIN:VEVENT
DTSTART;TZID=UTC:20260318T100000
DTEND;TZID=UTC:20260318T120000
DTSTAMP:20260419T180803
CREATED:20260302T143204Z
LAST-MODIFIED:20260302T143204Z
UID:879-1773828000-1773835200@centreleauvive.com
SUMMARY:Prières d'Intercession 18 mars 2026
DESCRIPTION:
URL:https://centreleauvive.com/activite/prieres-dintercession-18-mars-2026/
ATTACH;FMTTYPE=image/jpeg:https://centreleauvive.com/wp-content/uploads/2026/02/2026-03-18-Intercession.jpg
END:VEVENT
BEGIN:VEVENT
DTSTART;TZID=UTC:20260317T190000
DTEND;TZID=UTC:20260317T210000
DTSTAMP:20260419T180803
CREATED:20260302T142945Z
LAST-MODIFIED:20260302T142945Z
UID:877-1773774000-1773781200@centreleauvive.com
SUMMARY:Soirée de prières du mardi 17 mars 2026
DESCRIPTION:
URL:https://centreleauvive.com/activite/soiree-de-prieres-du-mardi-17-mars-2026/
ATTACH;FMTTYPE=image/jpeg:https://centreleauvive.com/wp-content/uploads/2026/02/Mardi-17-mars-2026.jpg
END:VEVENT
BEGIN:VEVENT
DTSTART;TZID=UTC:20260314T080000
DTEND;TZID=UTC:20260314T170000
DTSTAMP:20260419T180803
CREATED:20260314T182418Z
LAST-MODIFIED:20260314T182418Z
UID:963-1773475200-1773507600@centreleauvive.com
SUMMARY:2026-04-22 Prières d'intercession
DESCRIPTION:La grâce est une participation formelle à la vie du Père\, du Fils et du Saint Esprit… \nPère Jean-Paul Régimbal o.ss.t
URL:https://centreleauvive.com/activite/2026-04-22-prieres-dintercession/
ATTACH;FMTTYPE=image/jpeg:https://centreleauvive.com/wp-content/uploads/2026/03/Intercession-22-avril-2026.jpg
END:VEVENT
BEGIN:VEVENT
DTSTART;TZID=UTC:20260314T080000
DTEND;TZID=UTC:20260314T170000
DTSTAMP:20260419T180803
CREATED:20260314T175953Z
LAST-MODIFIED:20260314T180525Z
UID:949-1773475200-1773507600@centreleauvive.com
SUMMARY:2026-03-20 Jeunesse Notre-Dame
DESCRIPTION:Au lieu de croire vos doutes et de douter de votre foi\, croyez votre foi et doutez de vos doutes…
URL:https://centreleauvive.com/activite/2026-03-20-jeunesse-notre-dame/
ATTACH;FMTTYPE=image/jpeg:https://centreleauvive.com/wp-content/uploads/2026/03/2026-03-20-Jeunesse-Notre-Dame.jpg
END:VEVENT
BEGIN:VEVENT
DTSTART;TZID=UTC:20260312T190000
DTEND;TZID=UTC:20260312T203000
DTSTAMP:20260419T180803
CREATED:20260207T194517Z
LAST-MODIFIED:20260207T194517Z
UID:763-1773342000-1773347400@centreleauvive.com
SUMMARY:Le chapelet Notre-Dame
DESCRIPTION:
URL:https://centreleauvive.com/activite/le-chapelet-notre-dame-2/
ATTACH;FMTTYPE=image/jpeg:https://centreleauvive.com/wp-content/uploads/2026/02/affiche_generale-chapelet-PDF.jpg
END:VEVENT
BEGIN:VEVENT
DTSTART;TZID=UTC:20260311T130000
DTEND;TZID=UTC:20260311T153000
DTSTAMP:20260419T180803
CREATED:20260222T183112Z
LAST-MODIFIED:20260222T183721Z
UID:829-1773234000-1773243000@centreleauvive.com
SUMMARY:Messe de guérison\, 11 mars 2026
DESCRIPTION:
URL:https://centreleauvive.com/activite/messe-de-guerison-11-mars-2026-2/
END:VEVENT
BEGIN:VEVENT
DTSTART;TZID=UTC:20260311T100000
DTEND;TZID=UTC:20260311T120000
DTSTAMP:20260419T180803
CREATED:20260302T133643Z
LAST-MODIFIED:20260302T133909Z
UID:874-1773223200-1773230400@centreleauvive.com
SUMMARY:Prières d'Intercession 11 mars 2026
DESCRIPTION:
URL:https://centreleauvive.com/activite/prieres-dintercession-11-mars-2026/
END:VEVENT
BEGIN:VEVENT
DTSTART;TZID=UTC:20260310T190000
DTEND;TZID=UTC:20260310T210000
DTSTAMP:20260419T180803
CREATED:20260302T133432Z
LAST-MODIFIED:20260302T133459Z
UID:872-1773169200-1773176400@centreleauvive.com
SUMMARY:Soirée de prières 10 mars 2026
DESCRIPTION:
URL:https://centreleauvive.com/activite/soiree-de-prieres-10-mars-2026/
END:VEVENT
BEGIN:VEVENT
DTSTART;TZID=UTC:20260310T080000
DTEND;TZID=UTC:20260310T170000
DTSTAMP:20260419T180803
CREATED:20260310T195701Z
LAST-MODIFIED:20260310T195752Z
UID:926-1773129600-1773162000@centreleauvive.com
SUMMARY:Prières d'Intercession 22 avril 2026
DESCRIPTION:
URL:https://centreleauvive.com/activite/prieres-dintercession-22-avril-2026/
ATTACH;FMTTYPE=image/jpeg:https://centreleauvive.com/wp-content/uploads/2026/03/Intercession-22-avril-2026.jpg
END:VEVENT
BEGIN:VEVENT
DTSTART;TZID=UTC:20260306T190000
DTEND;TZID=UTC:20260306T210000
DTSTAMP:20260419T180803
CREATED:20260223T160925Z
LAST-MODIFIED:20260223T160925Z
UID:859-1772823600-1772830800@centreleauvive.com
SUMMARY:Premier Vendredi du mois mars 2026
DESCRIPTION:
URL:https://centreleauvive.com/activite/premier-vendredi-du-mois-mars-2026/
END:VEVENT
BEGIN:VEVENT
DTSTART;TZID=UTC:20260304T100000
DTEND;TZID=UTC:20260304T120000
DTSTAMP:20260419T180803
CREATED:20260222T184544Z
LAST-MODIFIED:20260222T184645Z
UID:831-1772618400-1772625600@centreleauvive.com
SUMMARY:Prières d'intercession 4 mars 2026
DESCRIPTION:
URL:https://centreleauvive.com/activite/prieres-dintercession-4-mars-2026/
END:VEVENT
BEGIN:VEVENT
DTSTART;TZID=UTC:20260303T133000
DTEND;TZID=UTC:20260303T153000
DTSTAMP:20260419T180803
CREATED:20260222T180940Z
LAST-MODIFIED:20260223T160703Z
UID:819-1772544600-1772551800@centreleauvive.com
SUMMARY:Rosaire avec NDML 3 mars 2026
DESCRIPTION:
URL:https://centreleauvive.com/activite/rosaire-avec-ndml-3-mars-2026/
END:VEVENT
BEGIN:VEVENT
DTSTART;TZID=UTC:20260228T090000
DTEND;TZID=UTC:20260228T160000
DTSTAMP:20260419T180803
CREATED:20260222T175938Z
LAST-MODIFIED:20260222T180044Z
UID:817-1772269200-1772294400@centreleauvive.com
SUMMARY:Père Benjamin Ébodé 28 février 2026
DESCRIPTION:
URL:https://centreleauvive.com/activite/pere-benjamin-ebode-28-fevrier-2026/
END:VEVENT
BEGIN:VEVENT
DTSTART;TZID=UTC:20260214T090000
DTEND;TZID=UTC:20260214T160000
DTSTAMP:20260419T180803
CREATED:20260207T170557Z
LAST-MODIFIED:20260207T170557Z
UID:757-1771059600-1771084800@centreleauvive.com
SUMMARY:Les serments intérieurs
DESCRIPTION:Maryse et Roger Groleau
URL:https://centreleauvive.com/activite/les-serments-interieurs/
END:VEVENT
BEGIN:VEVENT
DTSTART;TZID=UTC:20260212T190000
DTEND;TZID=UTC:20260212T203000
DTSTAMP:20260419T180803
CREATED:20260207T193327Z
LAST-MODIFIED:20260207T193327Z
UID:760-1770922800-1770928200@centreleauvive.com
SUMMARY:Le chapelet Notre-Dame
DESCRIPTION:
URL:https://centreleauvive.com/activite/le-chapelet-notre-dame/
ATTACH;FMTTYPE=image/jpeg:https://centreleauvive.com/wp-content/uploads/2026/02/affiche_generale-chapelet-PDF.jpg
END:VEVENT
BEGIN:VEVENT
DTSTART;TZID=UTC:20260117T093000
DTEND;TZID=UTC:20260117T160000
DTSTAMP:20260419T180803
CREATED:20260106T225132Z
LAST-MODIFIED:20260106T225132Z
UID:745-1768642200-1768665600@centreleauvive.com
SUMMARY:Journée spéciale avec le Père Michel Vigneau
DESCRIPTION:Venez vivre une journée inspirante sous le thème : « Pèlerins d’espérance à la suite du Ressuscité. » \nUn moment pour se laisser renouveler\, se ressourcer et marcher ensemble dans la lumière de l’espérance. \nCoût : 20 $ \nApportez votre lunch ou commandez du resto.
URL:https://centreleauvive.com/activite/journee-speciale-avec-le-pere-michel-vigneau/
END:VEVENT
END:VCALENDAR