BEGIN:VCALENDAR
VERSION:2.0
PRODID:-//Centre l&#039;Eau Vive - ECPv6.15.16//NONSGML v1.0//EN
CALSCALE:GREGORIAN
METHOD:PUBLISH
X-ORIGINAL-URL:https://centreleauvive.com
X-WR-CALDESC:Évènements pour Centre l&#039;Eau Vive
REFRESH-INTERVAL;VALUE=DURATION:PT1H
X-Robots-Tag:noindex
X-PUBLISHED-TTL:PT1H
BEGIN:VTIMEZONE
TZID:UTC
BEGIN:STANDARD
TZOFFSETFROM:+0000
TZOFFSETTO:+0000
TZNAME:UTC
DTSTART:20250101T000000
END:STANDARD
END:VTIMEZONE
BEGIN:VEVENT
DTSTART;TZID=UTC:20260422T100000
DTEND;TZID=UTC:20260422T120000
DTSTAMP:20260419T193216
CREATED:20260314T183436Z
LAST-MODIFIED:20260314T183436Z
UID:967-1776852000-1776859200@centreleauvive.com
SUMMARY:2026-04-22 Prières d'intercession
DESCRIPTION:La grâce est une participation formelle à la vie du Père\, du Fils et du Saint Esprit… \nPère Jean-Paul Régimbal o.ss.t
URL:https://centreleauvive.com/activite/2026-04-22-prieres-dintercession-2/
ATTACH;FMTTYPE=image/jpeg:https://centreleauvive.com/wp-content/uploads/2026/03/Intercession-22-avril-2026.jpg
END:VEVENT
END:VCALENDAR