BEGIN:VCALENDAR
VERSION:2.0
PRODID:-//Centre l&#039;Eau Vive - ECPv6.15.16//NONSGML v1.0//EN
CALSCALE:GREGORIAN
METHOD:PUBLISH
X-ORIGINAL-URL:https://centreleauvive.com
X-WR-CALDESC:Évènements pour Centre l&#039;Eau Vive
REFRESH-INTERVAL;VALUE=DURATION:PT1H
X-Robots-Tag:noindex
X-PUBLISHED-TTL:PT1H
BEGIN:VTIMEZONE
TZID:UTC
BEGIN:STANDARD
TZOFFSETFROM:+0000
TZOFFSETTO:+0000
TZNAME:UTC
DTSTART:20250101T000000
END:STANDARD
END:VTIMEZONE
BEGIN:VEVENT
DTSTART;TZID=UTC:20260403T190000
DTEND;TZID=UTC:20260403T210000
DTSTAMP:20260419T205727
CREATED:20260310T191910Z
LAST-MODIFIED:20260310T191910Z
UID:906-1775242800-1775250000@centreleauvive.com
SUMMARY:Premier Vendredi du mois Avril 2026
DESCRIPTION:
URL:https://centreleauvive.com/activite/premier-vendredi-du-mois-avril-2026/
ATTACH;FMTTYPE=image/jpeg:https://centreleauvive.com/wp-content/uploads/2026/02/2026-04-03-Premier-Vendredi-du-mois.jpg
END:VEVENT
END:VCALENDAR