BEGIN:VCALENDAR
VERSION:2.0
PRODID:-//Centre l&#039;Eau Vive - ECPv6.15.16//NONSGML v1.0//EN
CALSCALE:GREGORIAN
METHOD:PUBLISH
X-ORIGINAL-URL:https://centreleauvive.com
X-WR-CALDESC:Évènements pour Centre l&#039;Eau Vive
REFRESH-INTERVAL;VALUE=DURATION:PT1H
X-Robots-Tag:noindex
X-PUBLISHED-TTL:PT1H
BEGIN:VTIMEZONE
TZID:UTC
BEGIN:STANDARD
TZOFFSETFROM:+0000
TZOFFSETTO:+0000
TZNAME:UTC
DTSTART:20250101T000000
END:STANDARD
END:VTIMEZONE
BEGIN:VEVENT
DTSTART;TZID=UTC:20260317T190000
DTEND;TZID=UTC:20260317T210000
DTSTAMP:20260419T205623
CREATED:20260302T142945Z
LAST-MODIFIED:20260302T142945Z
UID:877-1773774000-1773781200@centreleauvive.com
SUMMARY:Soirée de prières du mardi 17 mars 2026
DESCRIPTION:
URL:https://centreleauvive.com/activite/soiree-de-prieres-du-mardi-17-mars-2026/
ATTACH;FMTTYPE=image/jpeg:https://centreleauvive.com/wp-content/uploads/2026/02/Mardi-17-mars-2026.jpg
END:VEVENT
END:VCALENDAR